BEGIN:VCALENDAR
VERSION:2.0
PRODID:-//Windham County Beekeepers - ECPv5.16.3.1//NONSGML v1.0//EN
CALSCALE:GREGORIAN
METHOD:PUBLISH
X-WR-CALNAME:Windham County Beekeepers
X-ORIGINAL-URL:https://windhamcountybeekeepers.com
X-WR-CALDESC:Events for Windham County Beekeepers
BEGIN:VTIMEZONE
TZID:UTC
BEGIN:STANDARD
TZOFFSETFROM:+0000
TZOFFSETTO:+0000
TZNAME:UTC
DTSTART:20240101T000000
END:STANDARD
END:VTIMEZONE
BEGIN:VEVENT
DTSTART;TZID=UTC:20240921T130000
DTEND;TZID=UTC:20240921T150000
DTSTAMP:20260422T113920
CREATED:20240830T201127Z
LAST-MODIFIED:20240830T201128Z
UID:2104-1726923600-1726930800@windhamcountybeekeepers.com
SUMMARY:WCB open hive
DESCRIPTION:WCB open hive at club yard: hive inspections\, mite testing\, winterization (and wrapping).
URL:https://windhamcountybeekeepers.com/event/wcb-open-hive-17/
ORGANIZER;CN="WCB":MAILTO:windhamcountybeekeepers@gmail.com
END:VEVENT
END:VCALENDAR