BEGIN:VCALENDAR
VERSION:2.0
PRODID:-//Windham County Beekeepers - ECPv5.16.3.1//NONSGML v1.0//EN
CALSCALE:GREGORIAN
METHOD:PUBLISH
X-WR-CALNAME:Windham County Beekeepers
X-ORIGINAL-URL:https://windhamcountybeekeepers.com
X-WR-CALDESC:Events for Windham County Beekeepers
BEGIN:VTIMEZONE
TZID:America/New_York
BEGIN:DAYLIGHT
TZOFFSETFROM:-0500
TZOFFSETTO:-0400
TZNAME:EDT
DTSTART:20240310T070000
END:DAYLIGHT
BEGIN:STANDARD
TZOFFSETFROM:-0400
TZOFFSETTO:-0500
TZNAME:EST
DTSTART:20241103T060000
END:STANDARD
END:VTIMEZONE
BEGIN:VEVENT
DTSTART;TZID=America/New_York:20240914T100000
DTEND;TZID=America/New_York:20240914T160000
DTSTAMP:20260422T114731
CREATED:20240407T202418Z
LAST-MODIFIED:20240830T201506Z
UID:2059-1726308000-1726329600@windhamcountybeekeepers.com
SUMMARY:Vermont Golden Honey Festival
DESCRIPTION:Visit the WCB booth at the Golden Honey Festival!Repeatedly voted one of the “Top 10 Fall Events” by the Vermont Chamber of Commerce\, the Vermont Golden Honey Festival is part Farmers Market with local produce and hot food\, and part craft fair with artists and crafters selling their unique items for you and for gifts. \n\n\n\nEvery vendor is encouraged to have products with some connection to bees … honey apple pizza\, honeybee print fabrics\, honey gin\, beeswax balms and soaps\, kombucha and mead\, caramel sauce\, and so much more. Our co-hosts\, Goodman’s American Pie of Ludlow Vermont offers up their Honey Apple wood-fired pizza from their 1940s-tow-truck-converted-into-a-mobile-wood-fired-beehive-pizza-oven! (The honey used on their pizza is from Jess Goodman’s own hives right here in Proctorsville.) \n\n\n\nHoney-related food and drinks (did we mention mead and honey gin for the adults?)\, crafts\, books and kids’ activities are just a few things highlighted during this one-day Rain Or Shine event that has certainly become a regional favorite.
URL:https://windhamcountybeekeepers.com/event/vermont-golden-honey-festival-2/
ORGANIZER;CN="Golden%20Stage%20Inn":MAILTO:innkeeper@goldenstageinn.com
END:VEVENT
END:VCALENDAR