BEGIN:VCALENDAR
VERSION:2.0
PRODID:-//Windham County Beekeepers - ECPv5.16.3.1//NONSGML v1.0//EN
CALSCALE:GREGORIAN
METHOD:PUBLISH
X-WR-CALNAME:Windham County Beekeepers
X-ORIGINAL-URL:https://windhamcountybeekeepers.com
X-WR-CALDESC:Events for Windham County Beekeepers
BEGIN:VTIMEZONE
TZID:UTC
BEGIN:STANDARD
TZOFFSETFROM:+0000
TZOFFSETTO:+0000
TZNAME:UTC
DTSTART:20240101T000000
END:STANDARD
END:VTIMEZONE
BEGIN:VEVENT
DTSTART;TZID=UTC:20240831T130000
DTEND;TZID=UTC:20240831T150000
DTSTAMP:20260422T113921
CREATED:20240829T145816Z
LAST-MODIFIED:20240830T200932Z
UID:2098-1725109200-1725116400@windhamcountybeekeepers.com
SUMMARY:WCB open hive
DESCRIPTION:Join us on Saturday\, August 31 at 1 pm for an open hive at our club yard in Newfane. \n\n\n\nWe will inspect our club hives and test for mites.  Jeff B will tell us all about the art of bee lining and demonstrate how to use bee lining tools.  Bring your questions and ideas to share with like-minded beekeepers!
URL:https://windhamcountybeekeepers.com/event/wcb-bee-lining-2/
ORGANIZER;CN="WCB":MAILTO:windhamcountybeekeepers@gmail.com
END:VEVENT
END:VCALENDAR