BEGIN:VCALENDAR
VERSION:2.0
PRODID:-//Windham County Beekeepers - ECPv5.16.3.1//NONSGML v1.0//EN
CALSCALE:GREGORIAN
METHOD:PUBLISH
X-WR-CALNAME:Windham County Beekeepers
X-ORIGINAL-URL:https://windhamcountybeekeepers.com
X-WR-CALDESC:Events for Windham County Beekeepers
BEGIN:VTIMEZONE
TZID:America/New_York
BEGIN:DAYLIGHT
TZOFFSETFROM:-0500
TZOFFSETTO:-0400
TZNAME:EDT
DTSTART:20240310T070000
END:DAYLIGHT
BEGIN:STANDARD
TZOFFSETFROM:-0400
TZOFFSETTO:-0500
TZNAME:EST
DTSTART:20241103T060000
END:STANDARD
END:VTIMEZONE
BEGIN:VEVENT
DTSTART;TZID=America/New_York:20240213T190000
DTEND;TZID=America/New_York:20240213T210000
DTSTAMP:20260422T214253
CREATED:20240203T150509Z
LAST-MODIFIED:20240203T150510Z
UID:2021-1707850800-1707858000@windhamcountybeekeepers.com
SUMMARY:WCB Zoom: February 13
DESCRIPTION:Join us for a Zoom meeting Tuesday\, February 13 at 7 pm.  Our guest speaker will be Dan Conlon from Warm Colors Apiary in Deerfield Mass.  The subject will be on the natural defense mechanisms that bees use to resist disease and pests.  He will also touch on the Russian Honeybee Program. \n\n\n\nContact Windham County Beekeepers at windhamcountybeekeepers@gmail.com to register for the Zoom!
URL:https://windhamcountybeekeepers.com/event/wcb-zoom-february-13/
ORGANIZER;CN="WCB":MAILTO:windhamcountybeekeepers@gmail.com
END:VEVENT
END:VCALENDAR