BEGIN:VCALENDAR
VERSION:2.0
PRODID:-//Windham County Beekeepers - ECPv5.16.3.1//NONSGML v1.0//EN
CALSCALE:GREGORIAN
METHOD:PUBLISH
X-WR-CALNAME:Windham County Beekeepers
X-ORIGINAL-URL:https://windhamcountybeekeepers.com
X-WR-CALDESC:Events for Windham County Beekeepers
BEGIN:VTIMEZONE
TZID:UTC
BEGIN:STANDARD
TZOFFSETFROM:+0000
TZOFFSETTO:+0000
TZNAME:UTC
DTSTART:20230101T000000
END:STANDARD
END:VTIMEZONE
BEGIN:VEVENT
DTSTART;TZID=UTC:20231021T130000
DTEND;TZID=UTC:20231021T150000
DTSTAMP:20260423T031339
CREATED:20230910T173423Z
LAST-MODIFIED:20230910T173424Z
UID:1985-1697893200-1697900400@windhamcountybeekeepers.com
SUMMARY:WCB meeting
DESCRIPTION:WCB meeting at the Newfane library. Kirk Webster will be our guest speaker. There will be a $10.00 charge for non-members that will also get you a club membership.  Space will be limited\, RSVP to our WCB email to guarantee your spot.                       
URL:https://windhamcountybeekeepers.com/event/wcb-meeting-11/
LOCATION:Moore Free Library\, Newfane\, VT\, 23 West Street\, Newfane\, Vermont\, 05345\, United States
ORGANIZER;CN="WCB":MAILTO:windhamcountybeekeepers@gmail.com
END:VEVENT
END:VCALENDAR