BEGIN:VCALENDAR
VERSION:2.0
PRODID:-//Windham County Beekeepers - ECPv5.16.3.1//NONSGML v1.0//EN
CALSCALE:GREGORIAN
METHOD:PUBLISH
X-WR-CALNAME:Windham County Beekeepers
X-ORIGINAL-URL:https://windhamcountybeekeepers.com
X-WR-CALDESC:Events for Windham County Beekeepers
BEGIN:VTIMEZONE
TZID:UTC
BEGIN:STANDARD
TZOFFSETFROM:+0000
TZOFFSETTO:+0000
TZNAME:UTC
DTSTART:20230101T000000
END:STANDARD
END:VTIMEZONE
BEGIN:VEVENT
DTSTART;TZID=UTC:20230916T130000
DTEND;TZID=UTC:20230916T150000
DTSTAMP:20260423T042725
CREATED:20230910T172922Z
LAST-MODIFIED:20230910T173016Z
UID:1980-1694869200-1694876400@windhamcountybeekeepers.com
SUMMARY:WCB open hive
DESCRIPTION:Join us on Saturday\, September 16 at 1 pm for an open hive at the WCB club yard in Newfane. This is our last open hive of the 2023 season!  \n\n\n\nWe’ll inspect the club hive\, check for mites\, and discuss best practices for overwintering our bees. Come learn what you can do to help keep your bees alive through the winter! We’ll demonstrate how to wrap a hive and share winterizing tips and methods. 
URL:https://windhamcountybeekeepers.com/event/wcb-open-hive-13/
ORGANIZER;CN="WCB":MAILTO:windhamcountybeekeepers@gmail.com
END:VEVENT
END:VCALENDAR