BEGIN:VCALENDAR
VERSION:2.0
PRODID:-//Windham County Beekeepers - ECPv5.16.3.1//NONSGML v1.0//EN
CALSCALE:GREGORIAN
METHOD:PUBLISH
X-WR-CALNAME:Windham County Beekeepers
X-ORIGINAL-URL:https://windhamcountybeekeepers.com
X-WR-CALDESC:Events for Windham County Beekeepers
BEGIN:VTIMEZONE
TZID:UTC
BEGIN:STANDARD
TZOFFSETFROM:+0000
TZOFFSETTO:+0000
TZNAME:UTC
DTSTART:20230101T000000
END:STANDARD
END:VTIMEZONE
BEGIN:VEVENT
DTSTART;TZID=UTC:20230820T120000
DTEND;TZID=UTC:20230820T150000
DTSTAMP:20260423T053618
CREATED:20230817T125912Z
LAST-MODIFIED:20230817T125918Z
UID:1963-1692532800-1692543600@windhamcountybeekeepers.com
SUMMARY:WCB bee lining and chat & chew
DESCRIPTION:Join us on Sunday\, August 20 for the WCB bee lining event in Stratton from 12 to 3 p.m. Jeff B and David C will bee there by 11 a.m. to begin setting up and scouting for bees. You’re welcome to join them!  \n\n\n\nJeff B will tell us all about the art of bee lining and demonstrate how to use bee lining tools. Check out some info on bee lining from Betterbee and Bee Culture. We’ll also talk about feeding and winterization. Bring your questions and ideas to share with like-minded beekeepers! \n\n\n\nWe’re going to meet at the AT/LT parking lot on Stratton-Arlington Road\, watch for signs on the way. Bring chairs\, water\, and PPE. We’ll hang out with other beekeepers and chat & chew. \n\n\n\nIf you don’t know how to get to the AT/LT parking lot\, email us at windhamcountybeekeepers@gmail.com and we’ll give you directions. And if you are not a WCB member yet\, we’ll sign you up at the event.
URL:https://windhamcountybeekeepers.com/event/wcb-bee-lining-and-chat-chew/
ORGANIZER;CN="WCB":MAILTO:windhamcountybeekeepers@gmail.com
END:VEVENT
END:VCALENDAR