BEGIN:VCALENDAR
VERSION:2.0
PRODID:-//Windham County Beekeepers - ECPv5.16.3.1//NONSGML v1.0//EN
CALSCALE:GREGORIAN
METHOD:PUBLISH
X-WR-CALNAME:Windham County Beekeepers
X-ORIGINAL-URL:https://windhamcountybeekeepers.com
X-WR-CALDESC:Events for Windham County Beekeepers
BEGIN:VTIMEZONE
TZID:UTC
BEGIN:STANDARD
TZOFFSETFROM:+0000
TZOFFSETTO:+0000
TZNAME:UTC
DTSTART:20230101T000000
END:STANDARD
END:VTIMEZONE
BEGIN:VEVENT
DTSTART;TZID=UTC:20230415T130000
DTEND;TZID=UTC:20230415T150000
DTSTAMP:20260423T101123
CREATED:20230410T145710Z
LAST-MODIFIED:20230410T145711Z
UID:1922-1681563600-1681570800@windhamcountybeekeepers.com
SUMMARY:WCB Meeting (Live!)
DESCRIPTION:Join us at the Moore Free Library in Newfane on Saturday\, April 15 at 1 pm. We’ll have a short business meeting to discuss upcoming events and club goals. \n\n\n\nThis includes an election for our next WCB crew! Your illustrious president\, vice president\, and secretary\, Jeff Battaglini\, Nate Shipman\, and Richard Crocker\, have served their terms (and served them well). Thank you all for everything you have done to create\, grow\, and sustain WCB! John Umfreville has kindly agreed to stay on as treasurer. Thank you\, John! \n\n\n\n Once the election is over\, we’ll discuss spring prep. What should you be doing now? Then we will follow with a beeQ&A. If a westbound bee leaves the apiary flying at 2 miles an hour ….
URL:https://windhamcountybeekeepers.com/event/wcb-meeting-live-4/
LOCATION:Moore Free Library\, Newfane\, VT\, 23 West Street\, Newfane\, Vermont\, 05345\, United States
ORGANIZER;CN="WCB":MAILTO:windhamcountybeekeepers@gmail.com
END:VEVENT
END:VCALENDAR