BEGIN:VCALENDAR
VERSION:2.0
PRODID:-//Windham County Beekeepers - ECPv5.16.3.1//NONSGML v1.0//EN
CALSCALE:GREGORIAN
METHOD:PUBLISH
X-WR-CALNAME:Windham County Beekeepers
X-ORIGINAL-URL:https://windhamcountybeekeepers.com
X-WR-CALDESC:Events for Windham County Beekeepers
BEGIN:VTIMEZONE
TZID:UTC
BEGIN:STANDARD
TZOFFSETFROM:+0000
TZOFFSETTO:+0000
TZNAME:UTC
DTSTART:20230101T000000
END:STANDARD
END:VTIMEZONE
BEGIN:VEVENT
DTSTART;TZID=UTC:20230325T130000
DTEND;TZID=UTC:20230325T150000
DTSTAMP:20260423T113900
CREATED:20230307T174805Z
LAST-MODIFIED:20230324T130748Z
UID:1901-1679749200-1679756400@windhamcountybeekeepers.com
SUMMARY:WCB Meeting (Live!)
DESCRIPTION:Come learn about what’s next for the club and what’s happening in the bee world!
URL:https://windhamcountybeekeepers.com/event/wcb-meeting-live-3/
LOCATION:Moore Free Library\, Newfane\, VT\, 23 West Street\, Newfane\, Vermont\, 05345\, United States
ORGANIZER;CN="WCB":MAILTO:windhamcountybeekeepers@gmail.com
END:VEVENT
END:VCALENDAR