BEGIN:VCALENDAR
VERSION:2.0
PRODID:-//Windham County Beekeepers - ECPv5.16.3.1//NONSGML v1.0//EN
CALSCALE:GREGORIAN
METHOD:PUBLISH
X-WR-CALNAME:Windham County Beekeepers
X-ORIGINAL-URL:https://windhamcountybeekeepers.com
X-WR-CALDESC:Events for Windham County Beekeepers
BEGIN:VTIMEZONE
TZID:UTC
BEGIN:STANDARD
TZOFFSETFROM:+0000
TZOFFSETTO:+0000
TZNAME:UTC
DTSTART:20230101T000000
END:STANDARD
END:VTIMEZONE
BEGIN:VEVENT
DTSTART;TZID=UTC:20230321T190000
DTEND;TZID=UTC:20230321T200000
DTSTAMP:20260423T114714
CREATED:20230307T174647Z
LAST-MODIFIED:20230307T174647Z
UID:1899-1679425200-1679428800@windhamcountybeekeepers.com
SUMMARY:WCB Zoom
DESCRIPTION:Pre-registration required. Email us for the Zoom link!Atreya Manaswi will talk to us about small hive beetles (SHB)\, a pest we are starting to see more often here in Vermont. Atreya offers a cost-effective method of controlling SHB. He is a 10th-grade student in Orlando who has been involved in university-level honey bee conservation research for four years. Atreya has also written a wonderful children’s book called The Bee Story. Check it out!
URL:https://windhamcountybeekeepers.com/event/wcb-zoom-7/
ORGANIZER;CN="WCB":MAILTO:windhamcountybeekeepers@gmail.com
END:VEVENT
END:VCALENDAR