BEGIN:VCALENDAR
VERSION:2.0
PRODID:-//Windham County Beekeepers - ECPv5.16.3.1//NONSGML v1.0//EN
CALSCALE:GREGORIAN
METHOD:PUBLISH
X-WR-CALNAME:Windham County Beekeepers
X-ORIGINAL-URL:https://windhamcountybeekeepers.com
X-WR-CALDESC:Events for Windham County Beekeepers
BEGIN:VTIMEZONE
TZID:UTC
BEGIN:STANDARD
TZOFFSETFROM:+0000
TZOFFSETTO:+0000
TZNAME:UTC
DTSTART:20230101T000000
END:STANDARD
END:VTIMEZONE
BEGIN:VEVENT
DTSTART;TZID=UTC:20230225T130000
DTEND;TZID=UTC:20230225T150000
DTSTAMP:20260423T131105
CREATED:20230216T225709Z
LAST-MODIFIED:20230216T225709Z
UID:1894-1677330000-1677337200@windhamcountybeekeepers.com
SUMMARY:WCB Meeting (Live!)
DESCRIPTION:When: Saturday\, February 25\, 1:00-3:00 pmWhere: Moore Free Library in NewfaneWhat: Brief business meeting and hive autopsyTopic: Why did my bees die?
URL:https://windhamcountybeekeepers.com/event/wcb-meeting-live-2/
LOCATION:Moore Free Library\, Newfane\, VT\, 23 West Street\, Newfane\, Vermont\, 05345\, United States
ORGANIZER;CN="WCB":MAILTO:windhamcountybeekeepers@gmail.com
END:VEVENT
END:VCALENDAR