BEGIN:VCALENDAR
VERSION:2.0
PRODID:-//Windham County Beekeepers - ECPv5.16.3.1//NONSGML v1.0//EN
CALSCALE:GREGORIAN
METHOD:PUBLISH
X-WR-CALNAME:Windham County Beekeepers
X-ORIGINAL-URL:https://windhamcountybeekeepers.com
X-WR-CALDESC:Events for Windham County Beekeepers
BEGIN:VTIMEZONE
TZID:America/New_York
BEGIN:DAYLIGHT
TZOFFSETFROM:-0500
TZOFFSETTO:-0400
TZNAME:EDT
DTSTART:20230312T070000
END:DAYLIGHT
BEGIN:STANDARD
TZOFFSETFROM:-0400
TZOFFSETTO:-0500
TZNAME:EST
DTSTART:20231105T060000
END:STANDARD
END:VTIMEZONE
BEGIN:VEVENT
DTSTART;TZID=America/New_York:20230131T180000
DTEND;TZID=America/New_York:20230131T200000
DTSTAMP:20260423T130113
CREATED:20230118T014240Z
LAST-MODIFIED:20230118T014241Z
UID:1883-1675188000-1675195200@windhamcountybeekeepers.com
SUMMARY:WCB Meeting (Live!)
DESCRIPTION:When: Tuesday\, January 31\, 6:00-8:00 pmWhere: Moore Free Library in NewfaneWhat: Brief business meeting and speakerSpeaker/topic: Brooke Decker\, VT Pollinator Health Specialist and State Apiculturist\, will talk to us about AFB
URL:https://windhamcountybeekeepers.com/event/wcb-meeting-live/
LOCATION:Moore Free Library\, Newfane\, VT\, 23 West Street\, Newfane\, Vermont\, 05345\, United States
ORGANIZER;CN="WCB":MAILTO:windhamcountybeekeepers@gmail.com
END:VEVENT
END:VCALENDAR