BEGIN:VCALENDAR
VERSION:2.0
PRODID:-//Windham County Beekeepers - ECPv5.16.3.1//NONSGML v1.0//EN
CALSCALE:GREGORIAN
METHOD:PUBLISH
X-WR-CALNAME:Windham County Beekeepers
X-ORIGINAL-URL:https://windhamcountybeekeepers.com
X-WR-CALDESC:Events for Windham County Beekeepers
BEGIN:VTIMEZONE
TZID:UTC
BEGIN:STANDARD
TZOFFSETFROM:+0000
TZOFFSETTO:+0000
TZNAME:UTC
DTSTART:20220101T000000
END:STANDARD
END:VTIMEZONE
BEGIN:VEVENT
DTSTART;TZID=UTC:20220514T130000
DTEND;TZID=UTC:20220514T150000
DTSTAMP:20260424T002238
CREATED:20220513T142308Z
LAST-MODIFIED:20220513T142309Z
UID:1816-1652533200-1652540400@windhamcountybeekeepers.com
SUMMARY:WCB open hive
DESCRIPTION:This is our first hive inspection in 2022 at the club yard. We’ll do a general inspection of the hives and discuss what we find. We’ll also go over our mite mitigation plan and discuss apiary laws. Come learn (or remind yourself) how to do a spring evaluation and mite counts. If you don’t know how to get to the club yard in Newfane\, email us at weisbatty@gmail.com and we’ll give you directions. 
URL:https://windhamcountybeekeepers.com/event/wcb-open-hive-6/
ORGANIZER;CN="WCB":MAILTO:windhamcountybeekeepers@gmail.com
END:VEVENT
END:VCALENDAR