BEGIN:VCALENDAR
VERSION:2.0
PRODID:-//Windham County Beekeepers - ECPv5.16.3.1//NONSGML v1.0//EN
CALSCALE:GREGORIAN
METHOD:PUBLISH
X-WR-CALNAME:Windham County Beekeepers
X-ORIGINAL-URL:https://windhamcountybeekeepers.com
X-WR-CALDESC:Events for Windham County Beekeepers
BEGIN:VTIMEZONE
TZID:UTC
BEGIN:STANDARD
TZOFFSETFROM:+0000
TZOFFSETTO:+0000
TZNAME:UTC
DTSTART:20220101T000000
END:STANDARD
END:VTIMEZONE
BEGIN:VEVENT
DTSTART;TZID=UTC:20220412T190000
DTEND;TZID=UTC:20220412T210000
DTSTAMP:20260424T013556
CREATED:20220104T014413Z
LAST-MODIFIED:20220411T181146Z
UID:1775-1649790000-1649797200@windhamcountybeekeepers.com
SUMMARY:WCB Zoom
DESCRIPTION:We’re having a WCB “Ask the Beekeeper” roundtable discussion on bees and beekeeping. Come with your questions and concerns and prepare to learn! What should we do with our bees now? What should we do next month\, and the next month? What challenges and opportunities do we face?
URL:https://windhamcountybeekeepers.com/event/wcb-zoom-8/
ORGANIZER;CN="WCB":MAILTO:weisbatty@gmail.com
END:VEVENT
END:VCALENDAR