BEGIN:VCALENDAR
VERSION:2.0
PRODID:-//Windham County Beekeepers - ECPv5.16.3.1//NONSGML v1.0//EN
CALSCALE:GREGORIAN
METHOD:PUBLISH
X-WR-CALNAME:Windham County Beekeepers
X-ORIGINAL-URL:https://windhamcountybeekeepers.com
X-WR-CALDESC:Events for Windham County Beekeepers
BEGIN:VTIMEZONE
TZID:America/New_York
BEGIN:DAYLIGHT
TZOFFSETFROM:-0500
TZOFFSETTO:-0400
TZNAME:EDT
DTSTART:20220313T070000
END:DAYLIGHT
BEGIN:STANDARD
TZOFFSETFROM:-0400
TZOFFSETTO:-0500
TZNAME:EST
DTSTART:20221106T060000
END:STANDARD
END:VTIMEZONE
BEGIN:VEVENT
DTSTART;TZID=America/New_York:20220111T183000
DTEND;TZID=America/New_York:20220111T193000
DTSTAMP:20260424T050555
CREATED:20220104T013334Z
LAST-MODIFIED:20220104T013335Z
UID:1767-1641925800-1641929400@windhamcountybeekeepers.com
SUMMARY:WCB Zoom: Herman's Honeycomb
DESCRIPTION:Join us online on January 11 to discuss Juniper Hill splits and honeycomb production. Herman Danenhower of Herman’s Honeycomb and Danenhower Apiaries in Kutztown\, Pennsylvania. We’ll learn all about Juniper Hill splits and honeycomb production. Herman\, who holds the patent for the Hogg Halfcomb\, will also talk to us about that comb honey system. \n\n\n\nContact us at weisbatty@gmail.com for the Zoom meeting link.
URL:https://windhamcountybeekeepers.com/event/wcb-zoom-hermans-honeycomb/
ORGANIZER;CN="WCB":MAILTO:windhamcountybeekeepers@gmail.com
END:VEVENT
END:VCALENDAR