BEGIN:VCALENDAR
VERSION:2.0
PRODID:-//Windham County Beekeepers - ECPv5.16.3.1//NONSGML v1.0//EN
CALSCALE:GREGORIAN
METHOD:PUBLISH
X-WR-CALNAME:Windham County Beekeepers
X-ORIGINAL-URL:https://windhamcountybeekeepers.com
X-WR-CALDESC:Events for Windham County Beekeepers
BEGIN:VTIMEZONE
TZID:America/New_York
BEGIN:DAYLIGHT
TZOFFSETFROM:-0500
TZOFFSETTO:-0400
TZNAME:EDT
DTSTART:20210314T070000
END:DAYLIGHT
BEGIN:STANDARD
TZOFFSETFROM:-0400
TZOFFSETTO:-0500
TZNAME:EST
DTSTART:20211107T060000
END:STANDARD
END:VTIMEZONE
BEGIN:VEVENT
DTSTART;TZID=America/New_York:20211009T130000
DTEND;TZID=America/New_York:20211009T150000
DTSTAMP:20260424T084614
CREATED:20210509T143134Z
LAST-MODIFIED:20210509T143135Z
UID:1712-1633784400-1633791600@windhamcountybeekeepers.com
SUMMARY:WCB open hive
DESCRIPTION:WCB open hive at club yard in Newfane: hive inspection\, mite mitigation\, winterization (and wrapping)
URL:https://windhamcountybeekeepers.com/event/wcb-open-hive-5/
ORGANIZER;CN="WCB":MAILTO:windhamcountybeekeepers@gmail.com
END:VEVENT
END:VCALENDAR