BEGIN:VCALENDAR
VERSION:2.0
PRODID:-//Windham County Beekeepers - ECPv5.16.3.1//NONSGML v1.0//EN
CALSCALE:GREGORIAN
METHOD:PUBLISH
X-WR-CALNAME:Windham County Beekeepers
X-ORIGINAL-URL:https://windhamcountybeekeepers.com
X-WR-CALDESC:Events for Windham County Beekeepers
BEGIN:VTIMEZONE
TZID:America/New_York
BEGIN:DAYLIGHT
TZOFFSETFROM:-0500
TZOFFSETTO:-0400
TZNAME:EDT
DTSTART:20210314T070000
END:DAYLIGHT
BEGIN:STANDARD
TZOFFSETFROM:-0400
TZOFFSETTO:-0500
TZNAME:EST
DTSTART:20211107T060000
END:STANDARD
END:VTIMEZONE
BEGIN:VEVENT
DTSTART;TZID=America/New_York:20210911T100000
DTEND;TZID=America/New_York:20210911T160000
DTSTAMP:20260424T101456
CREATED:20210509T142820Z
LAST-MODIFIED:20210509T142821Z
UID:1706-1631354400-1631376000@windhamcountybeekeepers.com
SUMMARY:WCB booth at the Golden Honey Festival
DESCRIPTION:Visit the WCB booth at the Golden Honey Festival in Proctorsville!
URL:https://windhamcountybeekeepers.com/event/wcb-booth-at-the-golden-honey-festival/
END:VEVENT
END:VCALENDAR