BEGIN:VCALENDAR
VERSION:2.0
PRODID:-//Windham County Beekeepers - ECPv5.16.3.1//NONSGML v1.0//EN
CALSCALE:GREGORIAN
METHOD:PUBLISH
X-WR-CALNAME:Windham County Beekeepers
X-ORIGINAL-URL:https://windhamcountybeekeepers.com
X-WR-CALDESC:Events for Windham County Beekeepers
BEGIN:VTIMEZONE
TZID:UTC
BEGIN:STANDARD
TZOFFSETFROM:+0000
TZOFFSETTO:+0000
TZNAME:UTC
DTSTART:20210101T000000
END:STANDARD
END:VTIMEZONE
BEGIN:VEVENT
DTSTART;TZID=UTC:20210814T130000
DTEND;TZID=UTC:20210814T150000
DTSTAMP:20260424T113051
CREATED:20210509T141652Z
LAST-MODIFIED:20210509T141653Z
UID:1704-1628946000-1628953200@windhamcountybeekeepers.com
SUMMARY:WCB open hive
DESCRIPTION:WCB open hive at club yard in Newfane: hive inspection\, mite mitigation\, bee products
URL:https://windhamcountybeekeepers.com/event/wcb-open-hive-4/
ORGANIZER;CN="WCB":MAILTO:windhamcountybeekeepers@gmail.com
END:VEVENT
END:VCALENDAR