BEGIN:VCALENDAR
VERSION:2.0
PRODID:-//Windham County Beekeepers - ECPv5.16.3.1//NONSGML v1.0//EN
CALSCALE:GREGORIAN
METHOD:PUBLISH
X-WR-CALNAME:Windham County Beekeepers
X-ORIGINAL-URL:https://windhamcountybeekeepers.com
X-WR-CALDESC:Events for Windham County Beekeepers
BEGIN:VTIMEZONE
TZID:America/New_York
BEGIN:DAYLIGHT
TZOFFSETFROM:-0500
TZOFFSETTO:-0400
TZNAME:EDT
DTSTART:20200308T070000
END:DAYLIGHT
BEGIN:STANDARD
TZOFFSETFROM:-0400
TZOFFSETTO:-0500
TZNAME:EST
DTSTART:20201101T060000
END:STANDARD
END:VTIMEZONE
BEGIN:VEVENT
DTSTART;TZID=America/New_York:20201123T190000
DTEND;TZID=America/New_York:20201123T200000
DTSTAMP:20260424T220321
CREATED:20201114T232653Z
LAST-MODIFIED:20201114T232945Z
UID:1632-1606158000-1606161600@windhamcountybeekeepers.com
SUMMARY:WCB Zoom
DESCRIPTION:A virtual beekeeper social. We’ll chat bees – talk about our season\, what we learned\, and what our goals are for next season. Bring your questions and aspirations. Contact Jeff B if you’re interested in attending.
URL:https://windhamcountybeekeepers.com/event/wcb-zoom/
END:VEVENT
END:VCALENDAR