BEGIN:VCALENDAR
VERSION:2.0
PRODID:-//Windham County Beekeepers - ECPv5.16.3.1//NONSGML v1.0//EN
CALSCALE:GREGORIAN
METHOD:PUBLISH
X-WR-CALNAME:Windham County Beekeepers
X-ORIGINAL-URL:https://windhamcountybeekeepers.com
X-WR-CALDESC:Events for Windham County Beekeepers
BEGIN:VTIMEZONE
TZID:America/New_York
BEGIN:DAYLIGHT
TZOFFSETFROM:-0500
TZOFFSETTO:-0400
TZNAME:EDT
DTSTART:20200308T070000
END:DAYLIGHT
BEGIN:STANDARD
TZOFFSETFROM:-0400
TZOFFSETTO:-0500
TZNAME:EST
DTSTART:20201101T060000
END:STANDARD
END:VTIMEZONE
BEGIN:VEVENT
DTSTART;TZID=America/New_York:20200919T130000
DTEND;TZID=America/New_York:20200919T150000
DTSTAMP:20260425T001451
CREATED:20191219T215004Z
LAST-MODIFIED:20200820T133544Z
UID:1169-1600520400-1600527600@windhamcountybeekeepers.com
SUMMARY:WCB Event: Bee lining!
DESCRIPTION:Join the WCB club officers as they try to hunt bees in Somerset. Contact Jeff B for more information.
URL:https://windhamcountybeekeepers.com/event/wcb-meeting-9/
LOCATION:Moore Free Library\, Newfane\, VT\, 23 West Street\, Newfane\, Vermont\, 05345\, United States
ORGANIZER;CN="WCB":MAILTO:windhamcountybeekeepers@gmail.com
END:VEVENT
END:VCALENDAR