BEGIN:VCALENDAR
VERSION:2.0
PRODID:-//Windham County Beekeepers - ECPv5.16.3.1//NONSGML v1.0//EN
CALSCALE:GREGORIAN
METHOD:PUBLISH
X-WR-CALNAME:Windham County Beekeepers
X-ORIGINAL-URL:https://windhamcountybeekeepers.com
X-WR-CALDESC:Events for Windham County Beekeepers
BEGIN:VTIMEZONE
TZID:America/New_York
BEGIN:DAYLIGHT
TZOFFSETFROM:-0500
TZOFFSETTO:-0400
TZNAME:EDT
DTSTART:20200308T070000
END:DAYLIGHT
BEGIN:STANDARD
TZOFFSETFROM:-0400
TZOFFSETTO:-0500
TZNAME:EST
DTSTART:20201101T060000
END:STANDARD
END:VTIMEZONE
BEGIN:VEVENT
DTSTART;TZID=America/New_York:20200123T183000
DTEND;TZID=America/New_York:20200123T210000
DTSTAMP:20260425T101903
CREATED:20191218T025009Z
LAST-MODIFIED:20200106T000139Z
UID:1085-1579804200-1579813200@windhamcountybeekeepers.com
SUMMARY:BCBC Beginning Beekeepers Course: Week 1
DESCRIPTION:This is the first of five classes held by the Bennington County Beekeepers Club. Topic: Introduction and Starting Out
URL:https://windhamcountybeekeepers.com/event/bcbc-beginning-beekeepers-course-week-1/
LOCATION:Crispe Room\, VT Veterans’ Home\, 325 North Street\, Bennington\, Vermont\, 05201\, United States
ORGANIZER;CN="Jeanne%20Davis%2C%20President%20of%20Bennington%20County%20Beekeepers%20Club":MAILTO:jdavisbwheat@comcast.net
END:VEVENT
END:VCALENDAR