BEGIN:VCALENDAR
VERSION:2.0
PRODID:-//Windham County Beekeepers - ECPv5.16.3.1//NONSGML v1.0//EN
CALSCALE:GREGORIAN
METHOD:PUBLISH
X-WR-CALNAME:Windham County Beekeepers
X-ORIGINAL-URL:https://windhamcountybeekeepers.com
X-WR-CALDESC:Events for Windham County Beekeepers
BEGIN:VTIMEZONE
TZID:America/New_York
BEGIN:DAYLIGHT
TZOFFSETFROM:-0500
TZOFFSETTO:-0400
TZNAME:EDT
DTSTART:20190310T070000
END:DAYLIGHT
BEGIN:STANDARD
TZOFFSETFROM:-0400
TZOFFSETTO:-0500
TZNAME:EST
DTSTART:20191103T060000
END:STANDARD
END:VTIMEZONE
BEGIN:VEVENT
DTSTART;TZID=America/New_York:20191010T190000
DTEND;TZID=America/New_York:20191010T210000
DTSTAMP:20260425T140157
CREATED:20190920T235046Z
LAST-MODIFIED:20191007T230528Z
UID:968-1570734000-1570741200@windhamcountybeekeepers.com
SUMMARY:Bennington County Beekeepers' Club Meeting: Kirk Webster
DESCRIPTION:Come to the BCBC potluck and meeting at the Crispe Room of the Vermont Veterans’ Home in Bennington on October 10 at 7:00 p.m. Kirk Webster will talk about his 20 years as a treatment-free beekeeper in Vermont. Bring a dish or snack to share at the potluck and get ready take notes as Kirk shares some tips. This will be a great meeting!
URL:https://windhamcountybeekeepers.com/event/bennington-county-beekeepers-club-meeting-kirk-webster/
LOCATION:Crispe Room\, VT Veterans’ Home\, 325 North Street\, Bennington\, Vermont\, 05201\, United States
ORGANIZER;CN="Jeanne%20Davis%2C%20President%20of%20Bennington%20County%20Beekeepers%20Club":MAILTO:jdavisbwheat@comcast.net
END:VEVENT
END:VCALENDAR