BEGIN:VCALENDAR
VERSION:2.0
PRODID:-//Windham County Beekeepers - ECPv5.16.3.1//NONSGML v1.0//EN
CALSCALE:GREGORIAN
METHOD:PUBLISH
X-WR-CALNAME:Windham County Beekeepers
X-ORIGINAL-URL:https://windhamcountybeekeepers.com
X-WR-CALDESC:Events for Windham County Beekeepers
BEGIN:VTIMEZONE
TZID:America/New_York
BEGIN:DAYLIGHT
TZOFFSETFROM:-0500
TZOFFSETTO:-0400
TZNAME:EDT
DTSTART:20190310T070000
END:DAYLIGHT
BEGIN:STANDARD
TZOFFSETFROM:-0400
TZOFFSETTO:-0500
TZNAME:EST
DTSTART:20191103T060000
END:STANDARD
END:VTIMEZONE
BEGIN:VEVENT
DTSTART;TZID=America/New_York:20190915T090000
DTEND;TZID=America/New_York:20190915T120000
DTSTAMP:20260425T152047
CREATED:20190422T192833Z
LAST-MODIFIED:20190422T192834Z
UID:678-1568538000-1568548800@windhamcountybeekeepers.com
SUMMARY:Imagine That Honey! Advanced Beekeeping Class
DESCRIPTION:1 year+ experience preferred. \n\n\n\nPart of a complete series of classes will help guide you through the steps necessary to begin\, keep and maintain healthy bees. Everyone participating in the course will receive introductory instruction and recommendations for starting your own apiary\, and most importantly\, hands-on experience. \n\n\n\nEven if you only take a class here and there you’ll still be ahead of the game. However\, each of the classes is​ important as they will help you anticipate what’s to come and  help build confidence to make decisions as you begin this new hobby.Please bring a veil and dress appropriately. \n\n\n\nTo Register\, Contact us Here
URL:https://windhamcountybeekeepers.com/event/imagine-that-honey-advanced-beekeeping-class-4/
END:VEVENT
END:VCALENDAR