BEGIN:VCALENDAR
VERSION:2.0
PRODID:-//Windham County Beekeepers - ECPv5.16.3.1//NONSGML v1.0//EN
CALSCALE:GREGORIAN
METHOD:PUBLISH
X-WR-CALNAME:Windham County Beekeepers
X-ORIGINAL-URL:https://windhamcountybeekeepers.com
X-WR-CALDESC:Events for Windham County Beekeepers
BEGIN:VTIMEZONE
TZID:America/New_York
BEGIN:DAYLIGHT
TZOFFSETFROM:-0500
TZOFFSETTO:-0400
TZNAME:EDT
DTSTART:20190310T070000
END:DAYLIGHT
BEGIN:STANDARD
TZOFFSETFROM:-0400
TZOFFSETTO:-0500
TZNAME:EST
DTSTART:20191103T060000
END:STANDARD
END:VTIMEZONE
BEGIN:VEVENT
DTSTART;TZID=America/New_York:20190810T090000
DTEND;TZID=America/New_York:20190810T160000
DTSTAMP:20260425T164314
CREATED:20190408T181906Z
LAST-MODIFIED:20190408T184857Z
UID:591-1565427600-1565452800@windhamcountybeekeepers.com
SUMMARY:Windham County History Fair
DESCRIPTION:The Windham County History Fair will be held Saturday\, August 10\, 2019\, on the picturesque Common in Newfane in front of the County Courthouse from 9:00 to 4:00. Historical Societies from around Windham County will be exhibiting at the Fair. In addition to the exhibits\, there will be demonstrations throughout the day: crafters\, vintage trucks and farm tools\, food and music. There will be tours of the Historic Village\, the County Courthouse and County Jail\, the newlyacquired West River Railroad Newfane Depot\, as well as other history-related events.Contact Larry Robinson at pl58svcable.net for more info.
URL:https://windhamcountybeekeepers.com/event/windham-county-history-fair/
ORGANIZER;CN="The%20Historical%20Society%20of%20Windham%20County":MAILTO:pl58@svcable.net
END:VEVENT
END:VCALENDAR