BEGIN:VCALENDAR
VERSION:2.0
PRODID:-//Windham County Beekeepers - ECPv5.16.3.1//NONSGML v1.0//EN
CALSCALE:GREGORIAN
METHOD:PUBLISH
X-WR-CALNAME:Windham County Beekeepers
X-ORIGINAL-URL:https://windhamcountybeekeepers.com
X-WR-CALDESC:Events for Windham County Beekeepers
BEGIN:VTIMEZONE
TZID:America/New_York
BEGIN:DAYLIGHT
TZOFFSETFROM:-0500
TZOFFSETTO:-0400
TZNAME:EDT
DTSTART:20190310T070000
END:DAYLIGHT
BEGIN:STANDARD
TZOFFSETFROM:-0400
TZOFFSETTO:-0500
TZNAME:EST
DTSTART:20191103T060000
END:STANDARD
END:VTIMEZONE
BEGIN:VEVENT
DTSTART;TZID=America/New_York:20190803T100000
DTEND;TZID=America/New_York:20190803T160000
DTSTAMP:20260425T164207
CREATED:20190718T145256Z
LAST-MODIFIED:20190718T145754Z
UID:883-1564826400-1564848000@windhamcountybeekeepers.com
SUMMARY:Open House AZ (Slovenian) Bee House Day
DESCRIPTION:A tour of AZ bee houses in NH. Join Suzanne and others as they explore different types of Slovenian-style bee houses. Reach out to Suzanne for more information.
URL:https://windhamcountybeekeepers.com/event/open-house-az-slovenian-bee-house-day/
ORGANIZER;CN="Suzanne%20Brouillette":MAILTO:beeslovenia@gmail.com
END:VEVENT
END:VCALENDAR