BEGIN:VCALENDAR
VERSION:2.0
PRODID:-//Windham County Beekeepers - ECPv5.16.3.1//NONSGML v1.0//EN
CALSCALE:GREGORIAN
METHOD:PUBLISH
X-WR-CALNAME:Windham County Beekeepers
X-ORIGINAL-URL:https://windhamcountybeekeepers.com
X-WR-CALDESC:Events for Windham County Beekeepers
BEGIN:VTIMEZONE
TZID:America/New_York
BEGIN:DAYLIGHT
TZOFFSETFROM:-0500
TZOFFSETTO:-0400
TZNAME:EDT
DTSTART:20190310T070000
END:DAYLIGHT
BEGIN:STANDARD
TZOFFSETFROM:-0400
TZOFFSETTO:-0500
TZNAME:EST
DTSTART:20191103T060000
END:STANDARD
END:VTIMEZONE
BEGIN:VEVENT
DTSTART;TZID=America/New_York:20190727T090000
DTEND;TZID=America/New_York:20190727T120000
DTSTAMP:20260425T180427
CREATED:20190422T193927Z
LAST-MODIFIED:20190422T194734Z
UID:687-1564218000-1564228800@windhamcountybeekeepers.com
SUMMARY:ITH: Hive Tour Workshops – Beekeeping Enthusiasts\, Novice & Advanced Beekeepers
DESCRIPTION:9:00 am to noon\, or from 1:00 to 4:00 pm starting at Imagine That Honey Visit several hives in various locations . You will need a veil and gloves\, and proper clothing and shoes to attend these workshop. By participating in these tours\, you will increase your comfort level by learning more about beekeeping\, and how to prepare to become the best beekeeper you can “bee.” This hobby is much more fun when you have someone to share it with. So\, we encourage you to bring a friend. This workshop is suitable for beginners and intermediate beekeepers. Charge per workshop is $45/person\, or both for $55/person. Stay tuned – More dates will be added …
URL:https://windhamcountybeekeepers.com/event/hive-tour-workshops-beekeeping-enthusiasts-novice-advanced-beekeepers/
END:VEVENT
END:VCALENDAR