BEGIN:VCALENDAR
VERSION:2.0
PRODID:-//Windham County Beekeepers - ECPv5.16.3.1//NONSGML v1.0//EN
CALSCALE:GREGORIAN
METHOD:PUBLISH
X-WR-CALNAME:Windham County Beekeepers
X-ORIGINAL-URL:https://windhamcountybeekeepers.com
X-WR-CALDESC:Events for Windham County Beekeepers
BEGIN:VTIMEZONE
TZID:America/New_York
BEGIN:DAYLIGHT
TZOFFSETFROM:-0500
TZOFFSETTO:-0400
TZNAME:EDT
DTSTART:20190310T070000
END:DAYLIGHT
BEGIN:STANDARD
TZOFFSETFROM:-0400
TZOFFSETTO:-0500
TZNAME:EST
DTSTART:20191103T060000
END:STANDARD
END:VTIMEZONE
BEGIN:VEVENT
DTSTART;TZID=America/New_York:20190713T083000
DTEND;TZID=America/New_York:20190713T163000
DTSTAMP:20260425T180935
CREATED:20190408T170817Z
LAST-MODIFIED:20190702T214558Z
UID:574-1563006600-1563035400@windhamcountybeekeepers.com
SUMMARY:Vermont Beekeepers Association Summer Meeting
DESCRIPTION:Humberto Boncristiani has been confirmed as the keynote speaker for the Vermont Beekeepers Association Summer 2019 meeting on July 13 at Leland and Gray in Townshend. \n\n\n\nCome learn more about the VBA and how it supports beekeepers in Vermont. There will also be speakers\, a potluck lunch\, and workshops. \n\n\n\nCheck out the agenda here.
URL:https://windhamcountybeekeepers.com/event/vermont-beekeepers-association-summer-meeting/
LOCATION:Leland & Gray\, 2042 VT Route 30\, Townshend\, Vermont\, 05353\, United States
END:VEVENT
END:VCALENDAR