BEGIN:VCALENDAR
VERSION:2.0
PRODID:-//Windham County Beekeepers - ECPv5.16.3.1//NONSGML v1.0//EN
CALSCALE:GREGORIAN
METHOD:PUBLISH
X-WR-CALNAME:Windham County Beekeepers
X-ORIGINAL-URL:https://windhamcountybeekeepers.com
X-WR-CALDESC:Events for Windham County Beekeepers
BEGIN:VTIMEZONE
TZID:America/New_York
BEGIN:DAYLIGHT
TZOFFSETFROM:-0500
TZOFFSETTO:-0400
TZNAME:EDT
DTSTART:20190310T070000
END:DAYLIGHT
BEGIN:STANDARD
TZOFFSETFROM:-0400
TZOFFSETTO:-0500
TZNAME:EST
DTSTART:20191103T060000
END:STANDARD
END:VTIMEZONE
BEGIN:VEVENT
DTSTART;TZID=America/New_York:20190622T090000
DTEND;TZID=America/New_York:20190622T150000
DTSTAMP:20260425T191758
CREATED:20190408T164251Z
LAST-MODIFIED:20190408T164252Z
UID:552-1561194000-1561215600@windhamcountybeekeepers.com
SUMMARY:Betterbee Annual Field Day
DESCRIPTION:From Betterbee website: Our Annual Customer Appreciation Day serves to thank our customers for their many years of loyalty and support. It’s an all-day free event with a guest speaker\, raffle\, free lunch and open hive demonstrations. Starts at 9AM and goes until 3PM. As in the past \, this year’s Field Day will be held at Washington County Fairgrounds right down the road from Betterbee. \n\n\n\nThis year we are fortunate to feature Dr. Jim Tew as our guest speaker.
URL:https://windhamcountybeekeepers.com/event/betterbee-annual-field-day/
LOCATION:Washington County Fairgrounds\, 392 Old Schuylerville Road\, Greenwich\, New York\, 12834\, United States
END:VEVENT
END:VCALENDAR