BEGIN:VCALENDAR
VERSION:2.0
PRODID:-//Windham County Beekeepers - ECPv5.16.3.1//NONSGML v1.0//EN
CALSCALE:GREGORIAN
METHOD:PUBLISH
X-WR-CALNAME:Windham County Beekeepers
X-ORIGINAL-URL:https://windhamcountybeekeepers.com
X-WR-CALDESC:Events for Windham County Beekeepers
BEGIN:VTIMEZONE
TZID:America/New_York
BEGIN:DAYLIGHT
TZOFFSETFROM:-0500
TZOFFSETTO:-0400
TZNAME:EDT
DTSTART:20190310T070000
END:DAYLIGHT
BEGIN:STANDARD
TZOFFSETFROM:-0400
TZOFFSETTO:-0500
TZNAME:EST
DTSTART:20191103T060000
END:STANDARD
END:VTIMEZONE
BEGIN:VEVENT
DTSTART;TZID=America/New_York:20190608T090000
DTEND;TZID=America/New_York:20190608T120000
DTSTAMP:20260425T191758
CREATED:20190422T190837Z
LAST-MODIFIED:20190422T190838Z
UID:649-1559984400-1559995200@windhamcountybeekeepers.com
SUMMARY:Imagine That Honey! Beginner Beekeeping Class
DESCRIPTION:Part of a complete series of classes will help guide you through the steps necessary to begin\, keep and maintain healthy bees. Everyone participating in the course will receive introductory instruction and recommendations for starting your own apiary\, and most importantly\, hands-on experience. \n\n\n\nEven if you only take a class here and there you’ll still be ahead of the game. However\, each of the classes is​ important as they will help you anticipate what’s to come and  help build confidence to make decisions as you begin this new hobby.Please bring a veil and dress appropriately. To Register\, Contact us Here
URL:https://windhamcountybeekeepers.com/event/imagine-that-honey-beginner-beekeeping-class-2/
LOCATION:Keene and Swanzey\, NH\, United States
END:VEVENT
BEGIN:VEVENT
DTSTART;TZID=America/New_York:20190608T130000
DTEND;TZID=America/New_York:20190608T150000
DTSTAMP:20260425T191758
CREATED:20190407T233037Z
LAST-MODIFIED:20190422T194719Z
UID:523-1559998800-1560006000@windhamcountybeekeepers.com
SUMMARY:WCB Open Hive in Wilmington
DESCRIPTION:Jeff B/Alan Robinson’s bee yard
URL:https://windhamcountybeekeepers.com/event/open-hive-in-wilmington-2/
END:VEVENT
END:VCALENDAR