BEGIN:VCALENDAR
VERSION:2.0
PRODID:-//Windham County Beekeepers - ECPv5.16.3.1//NONSGML v1.0//EN
CALSCALE:GREGORIAN
METHOD:PUBLISH
X-WR-CALNAME:Windham County Beekeepers
X-ORIGINAL-URL:https://windhamcountybeekeepers.com
X-WR-CALDESC:Events for Windham County Beekeepers
BEGIN:VTIMEZONE
TZID:America/New_York
BEGIN:DAYLIGHT
TZOFFSETFROM:-0500
TZOFFSETTO:-0400
TZNAME:EDT
DTSTART:20190310T070000
END:DAYLIGHT
BEGIN:STANDARD
TZOFFSETFROM:-0400
TZOFFSETTO:-0500
TZNAME:EST
DTSTART:20191103T060000
END:STANDARD
END:VTIMEZONE
BEGIN:VEVENT
DTSTART;TZID=America/New_York:20190519T090000
DTEND;TZID=America/New_York:20190519T120000
DTSTAMP:20260425T203437
CREATED:20190422T193342Z
LAST-MODIFIED:20190422T194658Z
UID:683-1558256400-1558267200@windhamcountybeekeepers.com
SUMMARY:ITH: Using NUCs to Split or Winter-Over Your Bees – Beginner & Advanced Beekeepers
DESCRIPTION:You may not have realized it\, but NUC boxes are one of your most versatile pieces of equipment. Yes\, you can use them to hold your bees\, but did you realize that these little gems can hold a queen in waiting? We’ll explain the many types of NUCS\, what they can be used for\, and why everyone should have at least one. We’ll be demonstrating how to build the wooden boxes as well as what types of bees and frames of bees you’ll need to get started…So you’ve heard about NUCs\, but did you know that you can winter-over your bees in such a small cavern? We have been using NUCs for years. We use them to build new colonies\, keep back-up bees & queens\, collect swarms\, and of course to winter over bees. We’ll explain how you can start a new hive from your existing bees. You’ve heard it before\, but timing is everything. Build your NUC (or double NUC) by the middle of July\, and your bees should go into the winter strong and ready for the cold weather – Please bring a veil. We will have materials available if you would like to build one of your own wooden NUC. There is an additional fee for NUC boxes and accessories. 
URL:https://windhamcountybeekeepers.com/event/using-nucs-to-split-or-winter-over-your-bees-beginner-advanced-beekeepers/
END:VEVENT
BEGIN:VEVENT
DTSTART;TZID=America/New_York:20190519T130000
DTEND;TZID=America/New_York:20190519T160000
DTSTAMP:20260425T203437
CREATED:20190422T193614Z
LAST-MODIFIED:20190422T194707Z
UID:685-1558270800-1558281600@windhamcountybeekeepers.com
SUMMARY:ITH: Beekeepers Open House
DESCRIPTION:You thought you’d get started with bees this year\, but didn’t realize that the bees are actually starting to plan for the Winter already! It’s important to get started on the right foot. Classes just aren’t for you (although they are VERY helpful). You just need bees\, and have a few questions before you get started. Or\, you’re a beekeeper and have questions. You think they are silly\, but they’re not. If you have a questions\, someone else does to. Let’s get you started\, and see where you go from here. There is no charge for this Open House. We do ask that you pre-register as parking is limited.  Free
URL:https://windhamcountybeekeepers.com/event/beekeepers-open-house/
END:VEVENT
END:VCALENDAR