BEGIN:VCALENDAR
VERSION:2.0
PRODID:-//Windham County Beekeepers - ECPv5.16.3.1//NONSGML v1.0//EN
CALSCALE:GREGORIAN
METHOD:PUBLISH
X-WR-CALNAME:Windham County Beekeepers
X-ORIGINAL-URL:https://windhamcountybeekeepers.com
X-WR-CALDESC:Events for Windham County Beekeepers
BEGIN:VTIMEZONE
TZID:America/New_York
BEGIN:DAYLIGHT
TZOFFSETFROM:-0500
TZOFFSETTO:-0400
TZNAME:EDT
DTSTART:20190310T070000
END:DAYLIGHT
BEGIN:STANDARD
TZOFFSETFROM:-0400
TZOFFSETTO:-0500
TZNAME:EST
DTSTART:20191103T060000
END:STANDARD
END:VTIMEZONE
BEGIN:VEVENT
DTSTART;TZID=America/New_York:20190509T190000
DTEND;TZID=America/New_York:20190509T210000
DTSTAMP:20260425T203518
CREATED:20190427T141622Z
LAST-MODIFIED:20190427T141623Z
UID:744-1557428400-1557435600@windhamcountybeekeepers.com
SUMMARY:Bennington County Beekeepers Club Meeting
DESCRIPTION:A potluck followed by discussion of bees!
URL:https://windhamcountybeekeepers.com/event/bennington-county-beekeepers-club-meeting/
ORGANIZER;CN="Jeanne%20Davis%2C%20President%20of%20Bennington%20County%20Beekeepers%20Club":MAILTO:jdavisbwheat@comcast.net
END:VEVENT
END:VCALENDAR