BEGIN:VCALENDAR
VERSION:2.0
PRODID:-//Windham County Beekeepers - ECPv5.16.3.1//NONSGML v1.0//EN
CALSCALE:GREGORIAN
METHOD:PUBLISH
X-WR-CALNAME:Windham County Beekeepers
X-ORIGINAL-URL:https://windhamcountybeekeepers.com
X-WR-CALDESC:Events for Windham County Beekeepers
BEGIN:VTIMEZONE
TZID:America/New_York
BEGIN:DAYLIGHT
TZOFFSETFROM:-0500
TZOFFSETTO:-0400
TZNAME:EDT
DTSTART:20190310T070000
END:DAYLIGHT
BEGIN:STANDARD
TZOFFSETFROM:-0400
TZOFFSETTO:-0500
TZNAME:EST
DTSTART:20191103T060000
END:STANDARD
END:VTIMEZONE
BEGIN:VEVENT
DTSTART;TZID=America/New_York:20190413T130000
DTEND;TZID=America/New_York:20190413T150000
DTSTAMP:20260425T214535
CREATED:20190407T231945Z
LAST-MODIFIED:20190408T150748Z
UID:514-1555160400-1555167600@windhamcountybeekeepers.com
SUMMARY:WCB Club Meeting
DESCRIPTION:Topics: \n\n\n\nQuick club businessLocal speaker: Richard Crocker\, WCB secretary\, will talk about making woodenware: How do we build boxes for our bees?
URL:https://windhamcountybeekeepers.com/event/wcb-club-meeting/
LOCATION:Moore Free Library\, Newfane\, VT\, 23 West Street\, Newfane\, Vermont\, 05345\, United States
ORGANIZER;CN="WCB":MAILTO:windhamcountybeekeepers@gmail.com
END:VEVENT
END:VCALENDAR